BEGIN:VCALENDAR
VERSION:2.0
PRODID:-//SHI Macrobiotics - ECPv6.15.20//NONSGML v1.0//EN
CALSCALE:GREGORIAN
METHOD:PUBLISH
X-ORIGINAL-URL:https://shimacrobiotics.org
X-WR-CALDESC:Events for SHI Macrobiotics
REFRESH-INTERVAL;VALUE=DURATION:PT1H
X-Robots-Tag:noindex
X-PUBLISHED-TTL:PT1H
BEGIN:VTIMEZONE
TZID:America/New_York
BEGIN:DAYLIGHT
TZOFFSETFROM:-0500
TZOFFSETTO:-0400
TZNAME:EDT
DTSTART:20210314T070000
END:DAYLIGHT
BEGIN:STANDARD
TZOFFSETFROM:-0400
TZOFFSETTO:-0500
TZNAME:EST
DTSTART:20211107T060000
END:STANDARD
BEGIN:DAYLIGHT
TZOFFSETFROM:-0500
TZOFFSETTO:-0400
TZNAME:EDT
DTSTART:20220313T070000
END:DAYLIGHT
BEGIN:STANDARD
TZOFFSETFROM:-0400
TZOFFSETTO:-0500
TZNAME:EST
DTSTART:20221106T060000
END:STANDARD
BEGIN:DAYLIGHT
TZOFFSETFROM:-0500
TZOFFSETTO:-0400
TZNAME:EDT
DTSTART:20230312T070000
END:DAYLIGHT
BEGIN:STANDARD
TZOFFSETFROM:-0400
TZOFFSETTO:-0500
TZNAME:EST
DTSTART:20231105T060000
END:STANDARD
END:VTIMEZONE
BEGIN:VEVENT
DTSTART;TZID=America/New_York:20220409T100000
DTEND;TZID=America/New_York:20220409T110000
DTSTAMP:20260419T215511
CREATED:20211118T000742Z
LAST-MODIFIED:20220401T174349Z
UID:18365-1649498400-1649502000@shimacrobiotics.org
SUMMARY:"Seasonal Allergies" Webinar
DESCRIPTION:Every year seasonal allergies seem to get worse and worse\, and a considerable portion of the population is affected. The global market for allergy treatment is a multibillion dollar industry\, but are there natural solutions that provide relief?\n\n\n\n\nThis webinar will consider the change of seasons and ways of adjusting to allergies\, especially winter to spring\, and summer to fall\, as our bodies produce different symptoms throughout the year.\n\n\n\n\n\nCLICK HERE to register!
URL:https://shimacrobiotics.org/calendar/cognitive-health-webinar/
LOCATION:Online
ORGANIZER;CN="Teron Meyers":MAILTO:info@shimacrobiotics.org
END:VEVENT
END:VCALENDAR